BEGIN:VCALENDAR
VERSION:2.0
PRODID:-//St. Luke&#039;s Church - ECPv6.15.20//NONSGML v1.0//EN
CALSCALE:GREGORIAN
METHOD:PUBLISH
X-WR-CALNAME:St. Luke&#039;s Church
X-ORIGINAL-URL:https://stlukeschurchgarfield.org
X-WR-CALDESC:Events for St. Luke&#039;s Church
REFRESH-INTERVAL;VALUE=DURATION:PT1H
X-Robots-Tag:noindex
X-PUBLISHED-TTL:PT1H
BEGIN:VTIMEZONE
TZID:America/Chicago
BEGIN:DAYLIGHT
TZOFFSETFROM:-0600
TZOFFSETTO:-0500
TZNAME:CDT
DTSTART:20240310T080000
END:DAYLIGHT
BEGIN:STANDARD
TZOFFSETFROM:-0500
TZOFFSETTO:-0600
TZNAME:CST
DTSTART:20241103T070000
END:STANDARD
BEGIN:DAYLIGHT
TZOFFSETFROM:-0600
TZOFFSETTO:-0500
TZNAME:CDT
DTSTART:20250309T080000
END:DAYLIGHT
BEGIN:STANDARD
TZOFFSETFROM:-0500
TZOFFSETTO:-0600
TZNAME:CST
DTSTART:20251102T070000
END:STANDARD
BEGIN:DAYLIGHT
TZOFFSETFROM:-0600
TZOFFSETTO:-0500
TZNAME:CDT
DTSTART:20260308T080000
END:DAYLIGHT
BEGIN:STANDARD
TZOFFSETFROM:-0500
TZOFFSETTO:-0600
TZNAME:CST
DTSTART:20261101T070000
END:STANDARD
END:VTIMEZONE
BEGIN:VEVENT
DTSTART;TZID=America/Chicago:20250730T183000
DTEND;TZID=America/Chicago:20250730T200000
DTSTAMP:20260421T212657
CREATED:20250707T160450Z
LAST-MODIFIED:20250707T160450Z
UID:25935-1753900200-1753905600@stlukeschurchgarfield.org
SUMMARY:Ice Cream Cones in Garfield City Park
DESCRIPTION:
URL:https://stlukeschurchgarfield.org/event/ice-cream-cones-in-garfield-city-park-9/
END:VEVENT
BEGIN:VEVENT
DTSTART;TZID=America/Chicago:20250730T180000
DTEND;TZID=America/Chicago:20250730T200000
DTSTAMP:20260421T212657
CREATED:20250703T172719Z
LAST-MODIFIED:20250703T172719Z
UID:25876-1753898400-1753905600@stlukeschurchgarfield.org
SUMMARY:Vacation Bible School
DESCRIPTION:
URL:https://stlukeschurchgarfield.org/event/vacation-bible-school-4/
END:VEVENT
BEGIN:VEVENT
DTSTART;TZID=America/Chicago:20250730T173000
DTEND;TZID=America/Chicago:20250730T173000
DTSTAMP:20260421T212657
CREATED:20250703T172636Z
LAST-MODIFIED:20250703T173146Z
UID:25874-1753896600-1753896600@stlukeschurchgarfield.org
SUMMARY:Vacation Bible School - Supper
DESCRIPTION:
URL:https://stlukeschurchgarfield.org/event/vacation-bible-school-supper-4/
END:VEVENT
BEGIN:VEVENT
DTSTART;TZID=America/Chicago:20250730T094500
DTEND;TZID=America/Chicago:20250730T094500
DTSTAMP:20260421T212657
CREATED:20250707T160153Z
LAST-MODIFIED:20250707T160857Z
UID:25933-1753868700-1753868700@stlukeschurchgarfield.org
SUMMARY:Men's Bible Study
DESCRIPTION:
URL:https://stlukeschurchgarfield.org/event/mens-bible-study-24/
END:VEVENT
BEGIN:VEVENT
DTSTART;TZID=America/Chicago:20250729T180000
DTEND;TZID=America/Chicago:20250729T200000
DTSTAMP:20260421T212657
CREATED:20250703T172539Z
LAST-MODIFIED:20250703T172539Z
UID:25872-1753812000-1753819200@stlukeschurchgarfield.org
SUMMARY:Vacation Bible School
DESCRIPTION:
URL:https://stlukeschurchgarfield.org/event/vacation-bible-school-3/
END:VEVENT
BEGIN:VEVENT
DTSTART;TZID=America/Chicago:20250729T173000
DTEND;TZID=America/Chicago:20250729T173000
DTSTAMP:20260421T212657
CREATED:20250703T172459Z
LAST-MODIFIED:20250703T173228Z
UID:25870-1753810200-1753810200@stlukeschurchgarfield.org
SUMMARY:Vacation Bible School - Supper
DESCRIPTION:
URL:https://stlukeschurchgarfield.org/event/vacation-bible-school-supper-3/
END:VEVENT
BEGIN:VEVENT
DTSTART;TZID=America/Chicago:20250728T180000
DTEND;TZID=America/Chicago:20250728T200000
DTSTAMP:20260421T212657
CREATED:20250703T172414Z
LAST-MODIFIED:20250703T172414Z
UID:25868-1753725600-1753732800@stlukeschurchgarfield.org
SUMMARY:Vacation Bible School
DESCRIPTION:
URL:https://stlukeschurchgarfield.org/event/vacation-bible-school-2/
END:VEVENT
BEGIN:VEVENT
DTSTART;TZID=America/Chicago:20250728T053000
DTEND;TZID=America/Chicago:20250728T053000
DTSTAMP:20260421T212657
CREATED:20250703T172326Z
LAST-MODIFIED:20250703T173250Z
UID:25866-1753680600-1753680600@stlukeschurchgarfield.org
SUMMARY:Vacation Bible School - Supper
DESCRIPTION:
URL:https://stlukeschurchgarfield.org/event/vacation-bible-school-supper-2/
END:VEVENT
BEGIN:VEVENT
DTSTART;TZID=America/Chicago:20250728T000000
DTEND;TZID=America/Chicago:20250728T000000
DTSTAMP:20260421T212657
CREATED:20250707T163640Z
LAST-MODIFIED:20250707T163648Z
UID:25958-1753660800-1753660800@stlukeschurchgarfield.org
SUMMARY:Pastor Gran's Sabbath Day
DESCRIPTION:
URL:https://stlukeschurchgarfield.org/event/pastor-grans-sabbath-day-9/
END:VEVENT
BEGIN:VEVENT
DTSTART;TZID=America/Chicago:20250519T000000
DTEND;TZID=America/Chicago:20250519T000000
DTSTAMP:20260421T212657
CREATED:20250512T172939Z
LAST-MODIFIED:20250512T172939Z
UID:25722-1747612800-1747612800@stlukeschurchgarfield.org
SUMMARY:Pr. Gran's Sabbath Day
DESCRIPTION:
URL:https://stlukeschurchgarfield.org/event/pr-grans-sabbath-day-20-3/
END:VEVENT
BEGIN:VEVENT
DTSTART;TZID=America/Chicago:20250727T180000
DTEND;TZID=America/Chicago:20250727T200000
DTSTAMP:20260421T212657
CREATED:20250702T175208Z
LAST-MODIFIED:20250707T174054Z
UID:25850-1753639200-1753646400@stlukeschurchgarfield.org
SUMMARY:Vacation Bible School
DESCRIPTION:
URL:https://stlukeschurchgarfield.org/event/vacation-bible-school/
END:VEVENT
BEGIN:VEVENT
DTSTART;TZID=America/Chicago:20250727T173000
DTEND;TZID=America/Chicago:20250727T173000
DTSTAMP:20260421T212657
CREATED:20250702T175022Z
LAST-MODIFIED:20250707T173956Z
UID:25848-1753637400-1753637400@stlukeschurchgarfield.org
SUMMARY:Vacation Bible School - Supper
DESCRIPTION:
URL:https://stlukeschurchgarfield.org/event/vacation-bible-school-supper/
END:VEVENT
BEGIN:VEVENT
DTSTART;TZID=America/Chicago:20250727T110000
DTEND;TZID=America/Chicago:20250727T110000
DTSTAMP:20260421T212657
CREATED:20250703T175713Z
LAST-MODIFIED:20250703T180953Z
UID:25909-1753614000-1753614000@stlukeschurchgarfield.org
SUMMARY:Worship HC
DESCRIPTION:
URL:https://stlukeschurchgarfield.org/event/worship-hc-26/
END:VEVENT
BEGIN:VEVENT
DTSTART;TZID=America/Chicago:20250727T100000
DTEND;TZID=America/Chicago:20250727T100000
DTSTAMP:20260421T212657
CREATED:20250707T161404Z
LAST-MODIFIED:20250707T161455Z
UID:25945-1753610400-1753610400@stlukeschurchgarfield.org
SUMMARY:Choir Practice
DESCRIPTION:
URL:https://stlukeschurchgarfield.org/event/choir-practice-33/
END:VEVENT
BEGIN:VEVENT
DTSTART;TZID=America/Chicago:20250727T094500
DTEND;TZID=America/Chicago:20250727T094500
DTSTAMP:20260421T212657
CREATED:20250707T162130Z
LAST-MODIFIED:20250707T162215Z
UID:25947-1753609500-1753609500@stlukeschurchgarfield.org
SUMMARY:Coffee Fellowship
DESCRIPTION:
URL:https://stlukeschurchgarfield.org/event/coffee-fellowship-28/
END:VEVENT
BEGIN:VEVENT
DTSTART;TZID=America/Chicago:20250727T083000
DTEND;TZID=America/Chicago:20250727T083000
DTSTAMP:20260421T212657
CREATED:20250703T175638Z
LAST-MODIFIED:20250703T175644Z
UID:25907-1753605000-1753605000@stlukeschurchgarfield.org
SUMMARY:Worship HC
DESCRIPTION:
URL:https://stlukeschurchgarfield.org/event/worship-hc-25/
END:VEVENT
BEGIN:VEVENT
DTSTART;TZID=America/Chicago:20250725T000000
DTEND;TZID=America/Chicago:20250725T000000
DTSTAMP:20260421T212657
CREATED:20250707T164036Z
LAST-MODIFIED:20250707T164046Z
UID:25966-1753401600-1753401600@stlukeschurchgarfield.org
SUMMARY:Pastor Davidson's Sabbath Day
DESCRIPTION:
URL:https://stlukeschurchgarfield.org/event/pastor-davidsons-sabbath-day-3/
END:VEVENT
BEGIN:VEVENT
DTSTART;TZID=America/Chicago:20250502T000000
DTEND;TZID=America/Chicago:20250502T000000
DTSTAMP:20260421T212657
CREATED:20250512T155943Z
LAST-MODIFIED:20250512T155943Z
UID:25643-1746144000-1746144000@stlukeschurchgarfield.org
SUMMARY:Pr. Davidson's Sabbath Day
DESCRIPTION:
URL:https://stlukeschurchgarfield.org/event/pr-davidsons-sabbath-day-19/
END:VEVENT
BEGIN:VEVENT
DTSTART;TZID=America/Chicago:20250724T083000
DTEND;TZID=America/Chicago:20250724T083000
DTSTAMP:20260421T212657
CREATED:20250707T155800Z
LAST-MODIFIED:20250707T161014Z
UID:25929-1753345800-1753345800@stlukeschurchgarfield.org
SUMMARY:Women's Prayer & Bible Study Group at Common Ground
DESCRIPTION:
URL:https://stlukeschurchgarfield.org/event/womens-prayer-bible-study-group-at-common-ground-8/
END:VEVENT
BEGIN:VEVENT
DTSTART;TZID=America/Chicago:20250723T183000
DTEND;TZID=America/Chicago:20250723T200000
DTSTAMP:20260421T212657
CREATED:20250703T181305Z
LAST-MODIFIED:20250703T181305Z
UID:25925-1753295400-1753300800@stlukeschurchgarfield.org
SUMMARY:Ice Cream Cones in Garfield City Park
DESCRIPTION:
URL:https://stlukeschurchgarfield.org/event/ice-cream-cones-in-garfield-city-park-8/
END:VEVENT
BEGIN:VEVENT
DTSTART;TZID=America/Chicago:20250723T094500
DTEND;TZID=America/Chicago:20250723T094500
DTSTAMP:20260421T212657
CREATED:20250703T181210Z
LAST-MODIFIED:20250703T181342Z
UID:25923-1753263900-1753263900@stlukeschurchgarfield.org
SUMMARY:Men's Bible Study
DESCRIPTION:
URL:https://stlukeschurchgarfield.org/event/mens-bible-study-23/
END:VEVENT
BEGIN:VEVENT
DTSTART;TZID=America/Chicago:20250722T130000
DTEND;TZID=America/Chicago:20250722T150000
DTSTAMP:20260421T212657
CREATED:20250703T172236Z
LAST-MODIFIED:20250703T172236Z
UID:25864-1753189200-1753196400@stlukeschurchgarfield.org
SUMMARY:Women's Bible Study
DESCRIPTION:
URL:https://stlukeschurchgarfield.org/event/womens-bible-study-13/
END:VEVENT
BEGIN:VEVENT
DTSTART;TZID=America/Chicago:20250721T183000
DTEND;TZID=America/Chicago:20250721T193000
DTSTAMP:20260421T212657
CREATED:20250703T173820Z
LAST-MODIFIED:20250703T173839Z
UID:25884-1753122600-1753126200@stlukeschurchgarfield.org
SUMMARY:Read the Bible Group
DESCRIPTION:
URL:https://stlukeschurchgarfield.org/event/read-the-bible-group-5/
END:VEVENT
BEGIN:VEVENT
DTSTART;TZID=America/Chicago:20250721T090000
DTEND;TZID=America/Chicago:20250721T090000
DTSTAMP:20260421T212657
CREATED:20250707T160606Z
LAST-MODIFIED:20250707T160751Z
UID:25937-1753088400-1753088400@stlukeschurchgarfield.org
SUMMARY:August Newsletter Articles Due
DESCRIPTION:
URL:https://stlukeschurchgarfield.org/event/august-newsletter-articles-due/
END:VEVENT
BEGIN:VEVENT
DTSTART;TZID=America/Chicago:20250721T000000
DTEND;TZID=America/Chicago:20250721T000000
DTSTAMP:20260421T212657
CREATED:20250707T163546Z
LAST-MODIFIED:20250707T163552Z
UID:25956-1753056000-1753056000@stlukeschurchgarfield.org
SUMMARY:Pastor Gran's Sabbath Day
DESCRIPTION:
URL:https://stlukeschurchgarfield.org/event/pastor-grans-sabbath-day-8/
END:VEVENT
BEGIN:VEVENT
DTSTART;TZID=America/Chicago:20250519T000000
DTEND;TZID=America/Chicago:20250519T000000
DTSTAMP:20260421T212657
CREATED:20250512T172939Z
LAST-MODIFIED:20250512T172939Z
UID:25722-1747612800-1747612800@stlukeschurchgarfield.org
SUMMARY:Pr. Gran's Sabbath Day
DESCRIPTION:
URL:https://stlukeschurchgarfield.org/event/pr-grans-sabbath-day-20-3/
END:VEVENT
BEGIN:VEVENT
DTSTART;TZID=America/Chicago:20250720T110000
DTEND;TZID=America/Chicago:20250720T110000
DTSTAMP:20260421T212657
CREATED:20250703T172052Z
LAST-MODIFIED:20250703T173338Z
UID:25860-1753009200-1753009200@stlukeschurchgarfield.org
SUMMARY:Worship
DESCRIPTION:
URL:https://stlukeschurchgarfield.org/event/worship-27/
END:VEVENT
BEGIN:VEVENT
DTSTART;TZID=America/Chicago:20250720T100000
DTEND;TZID=America/Chicago:20250720T100000
DTSTAMP:20260421T212657
CREATED:20250707T161317Z
LAST-MODIFIED:20250707T161548Z
UID:25943-1753005600-1753005600@stlukeschurchgarfield.org
SUMMARY:Choir Practice
DESCRIPTION:Cho
URL:https://stlukeschurchgarfield.org/event/choir-practice-32/
END:VEVENT
BEGIN:VEVENT
DTSTART;TZID=America/Chicago:20250720T094500
DTEND;TZID=America/Chicago:20250720T094500
DTSTAMP:20260421T212657
CREATED:20250703T180733Z
LAST-MODIFIED:20250703T180852Z
UID:25921-1753004700-1753004700@stlukeschurchgarfield.org
SUMMARY:Church Council
DESCRIPTION:
URL:https://stlukeschurchgarfield.org/event/church-council/
END:VEVENT
BEGIN:VEVENT
DTSTART;TZID=America/Chicago:20250720T094500
DTEND;TZID=America/Chicago:20250720T094500
DTSTAMP:20260421T212657
CREATED:20250703T180647Z
LAST-MODIFIED:20250703T180914Z
UID:25919-1753004700-1753004700@stlukeschurchgarfield.org
SUMMARY:Coffee Fellowship
DESCRIPTION:
URL:https://stlukeschurchgarfield.org/event/coffee-fellowship-27/
END:VEVENT
END:VCALENDAR