BEGIN:VCALENDAR
VERSION:2.0
PRODID:-//St. Luke&#039;s Church - ECPv6.15.20//NONSGML v1.0//EN
CALSCALE:GREGORIAN
METHOD:PUBLISH
X-WR-CALNAME:St. Luke&#039;s Church
X-ORIGINAL-URL:https://stlukeschurchgarfield.org
X-WR-CALDESC:Events for St. Luke&#039;s Church
REFRESH-INTERVAL;VALUE=DURATION:PT1H
X-Robots-Tag:noindex
X-PUBLISHED-TTL:PT1H
BEGIN:VTIMEZONE
TZID:America/Chicago
BEGIN:DAYLIGHT
TZOFFSETFROM:-0600
TZOFFSETTO:-0500
TZNAME:CDT
DTSTART:20250309T080000
END:DAYLIGHT
BEGIN:STANDARD
TZOFFSETFROM:-0500
TZOFFSETTO:-0600
TZNAME:CST
DTSTART:20251102T070000
END:STANDARD
BEGIN:DAYLIGHT
TZOFFSETFROM:-0600
TZOFFSETTO:-0500
TZNAME:CDT
DTSTART:20260308T080000
END:DAYLIGHT
BEGIN:STANDARD
TZOFFSETFROM:-0500
TZOFFSETTO:-0600
TZNAME:CST
DTSTART:20261101T070000
END:STANDARD
BEGIN:DAYLIGHT
TZOFFSETFROM:-0600
TZOFFSETTO:-0500
TZNAME:CDT
DTSTART:20270314T080000
END:DAYLIGHT
BEGIN:STANDARD
TZOFFSETFROM:-0500
TZOFFSETTO:-0600
TZNAME:CST
DTSTART:20271107T070000
END:STANDARD
END:VTIMEZONE
BEGIN:VEVENT
DTSTART;TZID=America/Chicago:20260513T094500
DTEND;TZID=America/Chicago:20260513T094500
DTSTAMP:20260420T134259
CREATED:20260417T174020Z
LAST-MODIFIED:20260417T174026Z
UID:26907-1778665500-1778665500@stlukeschurchgarfield.org
SUMMARY:Men's Bible Study
DESCRIPTION:
URL:https://stlukeschurchgarfield.org/event/mens-bible-study-54/
END:VEVENT
BEGIN:VEVENT
DTSTART;TZID=America/Chicago:20260513T180000
DTEND;TZID=America/Chicago:20260513T180000
DTSTAMP:20260420T134259
CREATED:20260417T174107Z
LAST-MODIFIED:20260417T174113Z
UID:26909-1778695200-1778695200@stlukeschurchgarfield.org
SUMMARY:Confirmation Pictures
DESCRIPTION:
URL:https://stlukeschurchgarfield.org/event/confirmation-pictures-2/
END:VEVENT
BEGIN:VEVENT
DTSTART;TZID=America/Chicago:20260513T183000
DTEND;TZID=America/Chicago:20260513T200000
DTSTAMP:20260420T134259
CREATED:20260417T174149Z
LAST-MODIFIED:20260417T174156Z
UID:26911-1778697000-1778702400@stlukeschurchgarfield.org
SUMMARY:Confirmation
DESCRIPTION:
URL:https://stlukeschurchgarfield.org/event/confirmation-37/
END:VEVENT
END:VCALENDAR