BEGIN:VCALENDAR
VERSION:2.0
PRODID:-//St. Luke&#039;s Church - ECPv6.15.20//NONSGML v1.0//EN
CALSCALE:GREGORIAN
METHOD:PUBLISH
X-WR-CALNAME:St. Luke&#039;s Church
X-ORIGINAL-URL:https://stlukeschurchgarfield.org
X-WR-CALDESC:Events for St. Luke&#039;s Church
REFRESH-INTERVAL;VALUE=DURATION:PT1H
X-Robots-Tag:noindex
X-PUBLISHED-TTL:PT1H
BEGIN:VTIMEZONE
TZID:America/Chicago
BEGIN:DAYLIGHT
TZOFFSETFROM:-0600
TZOFFSETTO:-0500
TZNAME:CDT
DTSTART:20250309T080000
END:DAYLIGHT
BEGIN:STANDARD
TZOFFSETFROM:-0500
TZOFFSETTO:-0600
TZNAME:CST
DTSTART:20251102T070000
END:STANDARD
BEGIN:DAYLIGHT
TZOFFSETFROM:-0600
TZOFFSETTO:-0500
TZNAME:CDT
DTSTART:20260308T080000
END:DAYLIGHT
BEGIN:STANDARD
TZOFFSETFROM:-0500
TZOFFSETTO:-0600
TZNAME:CST
DTSTART:20261101T070000
END:STANDARD
BEGIN:DAYLIGHT
TZOFFSETFROM:-0600
TZOFFSETTO:-0500
TZNAME:CDT
DTSTART:20270314T080000
END:DAYLIGHT
BEGIN:STANDARD
TZOFFSETFROM:-0500
TZOFFSETTO:-0600
TZNAME:CST
DTSTART:20271107T070000
END:STANDARD
END:VTIMEZONE
BEGIN:VEVENT
DTSTART;TZID=America/Chicago:20260510T083000
DTEND;TZID=America/Chicago:20260510T083000
DTSTAMP:20260420T091913
CREATED:20260417T170237Z
LAST-MODIFIED:20260417T170244Z
UID:26855-1778401800-1778401800@stlukeschurchgarfield.org
SUMMARY:Worship HC
DESCRIPTION:
URL:https://stlukeschurchgarfield.org/event/worship-hc-54/
END:VEVENT
BEGIN:VEVENT
DTSTART;TZID=America/Chicago:20260510T094500
DTEND;TZID=America/Chicago:20260510T094500
DTSTAMP:20260420T091913
CREATED:20260417T171036Z
LAST-MODIFIED:20260417T171042Z
UID:26873-1778406300-1778406300@stlukeschurchgarfield.org
SUMMARY:Sunday School/Sr. High Youth
DESCRIPTION:
URL:https://stlukeschurchgarfield.org/event/sunday-school-sr-high-youth-19/
END:VEVENT
BEGIN:VEVENT
DTSTART;TZID=America/Chicago:20260510T094500
DTEND;TZID=America/Chicago:20260510T094500
DTSTAMP:20260420T091913
CREATED:20260417T171233Z
LAST-MODIFIED:20260417T171240Z
UID:26877-1778406300-1778406300@stlukeschurchgarfield.org
SUMMARY:Coffee Fellowship
DESCRIPTION:
URL:https://stlukeschurchgarfield.org/event/coffee-fellowship-52/
END:VEVENT
BEGIN:VEVENT
DTSTART;TZID=America/Chicago:20260510T110000
DTEND;TZID=America/Chicago:20260510T110000
DTSTAMP:20260420T091913
CREATED:20260417T170314Z
LAST-MODIFIED:20260417T170322Z
UID:26857-1778410800-1778410800@stlukeschurchgarfield.org
SUMMARY:Worship HC
DESCRIPTION:
URL:https://stlukeschurchgarfield.org/event/worship-hc-55/
END:VEVENT
END:VCALENDAR