BEGIN:VCALENDAR
VERSION:2.0
PRODID:-//St. Luke&#039;s Church - ECPv6.15.20//NONSGML v1.0//EN
CALSCALE:GREGORIAN
METHOD:PUBLISH
X-ORIGINAL-URL:https://stlukeschurchgarfield.org
X-WR-CALDESC:Events for St. Luke&#039;s Church
REFRESH-INTERVAL;VALUE=DURATION:PT1H
X-Robots-Tag:noindex
X-PUBLISHED-TTL:PT1H
BEGIN:VTIMEZONE
TZID:America/Chicago
BEGIN:DAYLIGHT
TZOFFSETFROM:-0600
TZOFFSETTO:-0500
TZNAME:CDT
DTSTART:20250309T080000
END:DAYLIGHT
BEGIN:STANDARD
TZOFFSETFROM:-0500
TZOFFSETTO:-0600
TZNAME:CST
DTSTART:20251102T070000
END:STANDARD
BEGIN:DAYLIGHT
TZOFFSETFROM:-0600
TZOFFSETTO:-0500
TZNAME:CDT
DTSTART:20260308T080000
END:DAYLIGHT
BEGIN:STANDARD
TZOFFSETFROM:-0500
TZOFFSETTO:-0600
TZNAME:CST
DTSTART:20261101T070000
END:STANDARD
BEGIN:DAYLIGHT
TZOFFSETFROM:-0600
TZOFFSETTO:-0500
TZNAME:CDT
DTSTART:20270314T080000
END:DAYLIGHT
BEGIN:STANDARD
TZOFFSETFROM:-0500
TZOFFSETTO:-0600
TZNAME:CST
DTSTART:20271107T070000
END:STANDARD
END:VTIMEZONE
BEGIN:VEVENT
DTSTART;TZID=America/Chicago:20260428T130000
DTEND;TZID=America/Chicago:20260428T150000
DTSTAMP:20260419T175808
CREATED:20260417T161635Z
LAST-MODIFIED:20260417T161642Z
UID:26787-1777381200-1777388400@stlukeschurchgarfield.org
SUMMARY:Women's Bible Study
DESCRIPTION:
URL:https://stlukeschurchgarfield.org/event/womens-bible-study-28/
END:VEVENT
BEGIN:VEVENT
DTSTART;TZID=America/Chicago:20260428T180000
DTEND;TZID=America/Chicago:20260428T193000
DTSTAMP:20260419T175808
CREATED:20260417T172840Z
LAST-MODIFIED:20260417T172846Z
UID:26897-1777399200-1777404600@stlukeschurchgarfield.org
SUMMARY:Estonia Guest Speaker - Pr. Siimon Haamer
DESCRIPTION:
URL:https://stlukeschurchgarfield.org/event/estonia-guest-speaker-pr-siimon-haamer/
END:VEVENT
END:VCALENDAR